BEGIN:VCALENDAR
VERSION:2.0
PRODID:-//Apuldram Parish Meeting - ECPv6.15.18//NONSGML v1.0//EN
CALSCALE:GREGORIAN
METHOD:PUBLISH
X-WR-CALNAME:Apuldram Parish Meeting
X-ORIGINAL-URL:https://apuldramparish.gov.uk
X-WR-CALDESC:Events for Apuldram Parish Meeting
REFRESH-INTERVAL;VALUE=DURATION:PT1H
X-Robots-Tag:noindex
X-PUBLISHED-TTL:PT1H
BEGIN:VTIMEZONE
TZID:UTC
BEGIN:STANDARD
TZOFFSETFROM:+0000
TZOFFSETTO:+0000
TZNAME:UTC
DTSTART:19690101T000000
END:STANDARD
END:VTIMEZONE
BEGIN:VEVENT
DTSTART;TZID=UTC:20240216T093000
DTEND;TZID=UTC:20240216T153000
DTSTAMP:20260420T050802
CREATED:20240208T125744Z
LAST-MODIFIED:20240208T125845Z
UID:2443-1708075800-1708097400@apuldramparish.gov.uk
SUMMARY:TEMPORARY ROAD CLOSURE
DESCRIPTION:Appledram Lane South will be temporarily closed on 16th February 2024 to enable urgent carriageway pothole repairs to take place.  Further information in included in the public notice \n28 Day Safety Plus ROAD CLOSURE Public Notice\, Church Road\, Appledram
URL:https://apuldramparish.gov.uk/event/temporary-road-closure/
CATEGORIES:Parish Meeting
END:VEVENT
BEGIN:VEVENT
DTSTART;TZID=UTC:20230512T080000
DTEND;TZID=UTC:20230514T170000
DTSTAMP:20260420T050802
CREATED:20230512T130729Z
LAST-MODIFIED:20230512T130729Z
UID:2022-1683878400-1684083600@apuldramparish.gov.uk
SUMMARY:Coronation Party
DESCRIPTION:“Happy and Glorious” – Apuldram Coronation celebration Sunday 14 th May . \nCelebrations will take place all over the country to mark thishistoric occasion. Apuldram Parish Meeting looks forward towelcoming as many as are able to come along to the party whichwill take place on 14 th May. It is looking to be a great event and awonderful opportunity for the parish and beyond to come togetherfor an afternoon of community\, eating\, live music andentertainment. There will be plenty to occupy the children and they will all receive a specialCoronation mug. The flower team have designed a celebratory mini festival of flowers in thechurch.
URL:https://apuldramparish.gov.uk/event/coronation-party/
END:VEVENT
BEGIN:VEVENT
DTSTART;VALUE=DATE:20220611
DTEND;VALUE=DATE:20220612
DTSTAMP:20260420T050802
CREATED:20220608T141724Z
LAST-MODIFIED:20220608T141724Z
UID:1496-1654905600-1654991999@apuldramparish.gov.uk
SUMMARY:Jubilee Party
DESCRIPTION:
URL:https://apuldramparish.gov.uk/event/jubilee-party/
LOCATION:Education Centre\, Dell Quay\, United Kingdom
END:VEVENT
BEGIN:VEVENT
DTSTART;TZID=UTC:20260420T050802
DTEND;TZID=UTC:20260420T050802
DTSTAMP:20260420T050802
CREATED:20251218T162101Z
LAST-MODIFIED:20251218T162122Z
UID:10969-0-0@apuldramparish.gov.uk
SUMMARY:Chairman's Advisory Committee Meeting
DESCRIPTION:The Meeting will take place at the Education Centre\, Dell Quay and the public are welcome to attend.
URL:https://apuldramparish.gov.uk/event/chairmans-advisory-committee-meeting-5/
LOCATION:Education Centre\, Dell Quay\, United Kingdom
CATEGORIES:Parish Meeting
END:VEVENT
BEGIN:VEVENT
DTSTART;TZID=UTC:20260420T050802
DTEND;TZID=UTC:20260420T050802
DTSTAMP:20260420T050802
CREATED:20251218T161859Z
LAST-MODIFIED:20251218T161859Z
UID:10967-0-0@apuldramparish.gov.uk
SUMMARY:Chairman's Advisory Committee Meeting
DESCRIPTION:The Meeting will take place at the Education Centre\, Dell Quay and the public are welcome to attend.
URL:https://apuldramparish.gov.uk/event/chairmans-advisory-committee-meeting-4/
LOCATION:Education Centre\, Dell Quay\, United Kingdom
CATEGORIES:Parish Meeting
END:VEVENT
BEGIN:VEVENT
DTSTART;TZID=UTC:20260420T050802
DTEND;TZID=UTC:20260420T050802
DTSTAMP:20260420T050802
CREATED:20251218T161804Z
LAST-MODIFIED:20251218T161804Z
UID:10965-0-0@apuldramparish.gov.uk
SUMMARY:Chairman's Advisory Committee Meeting
DESCRIPTION:The meeting of Apuldram Parish Meeting will be held at the Education Centre\, Dell Quay. All residents of Apuldram are requested and encouraged to attend.
URL:https://apuldramparish.gov.uk/event/chairmans-advisory-committee-meeting-3/
LOCATION:Dell Quay Hard\, Dell Quay Road\, Dell Quay\, West Sussex\, PO20 7EE\, United Kingdom
CATEGORIES:Parish Meeting
END:VEVENT
BEGIN:VEVENT
DTSTART;TZID=UTC:20260420T050802
DTEND;TZID=UTC:20260420T050802
DTSTAMP:20260420T050802
CREATED:20251111T143434Z
LAST-MODIFIED:20260112T100803Z
UID:10834-0-0@apuldramparish.gov.uk
SUMMARY:Annual Parish Meeting
DESCRIPTION:The Meeting will take place at the Education Centre\, Dell Quay and the public are welcome to attend.
URL:https://apuldramparish.gov.uk/event/annual-parish-meeting-2/
LOCATION:Dell Quay Hard\, Dell Quay Road\, Dell Quay\, West Sussex\, PO20 7EE\, United Kingdom
CATEGORIES:Parish Meeting
END:VEVENT
END:VCALENDAR